BEGIN:VCALENDAR
VERSION:2.0
PRODID:-//Istituto Studi Storici
CALSCALE:GREGORIAN
METHOD:PUBLISH
X-WR-CALNAME:Istituto Studi Storici
X-ORIGINAL-URL:http://istitutostudistorici.it/eventi/il-caso-di-laghitello
X-WR-CALDESC:Il Caso di Laghitello
BEGIN:VEVENT
DTSTART:20120803T210000
DTEND:20120803T233000
SUMMARY:Il Caso di Laghitello
DESCRIPTION:
LOCATION:Lago, Madonna dei Monti
END:VEVENT
END:VCALENDAR
