BEGIN:VCALENDAR
VERSION:2.0
PRODID:-//Istituto Studi Storici
CALSCALE:GREGORIAN
METHOD:PUBLISH
X-WR-CALNAME:Istituto Studi Storici
X-ORIGINAL-URL:http://istitutostudistorici.it/eventi/4595
X-WR-CALDESC:Chissu si trova ara Fera!
BEGIN:VEVENT
DTSTART:20140315T170000
DTEND:20140320T200000
SUMMARY:Chissu si trova ara Fera!
DESCRIPTION:i prodotti che hanno fatto la Fiera
LOCATION:Cosenza, Casa delle Culture
END:VEVENT
END:VCALENDAR
