BEGIN:VCALENDAR
VERSION:2.0
PRODID:-//Istituto Studi Storici
CALSCALE:GREGORIAN
METHOD:PUBLISH
X-WR-CALNAME:Istituto Studi Storici
X-ORIGINAL-URL:http://istitutostudistorici.it/eventi/storia-e-storie-il-traditore
X-WR-CALDESC:Storia e Storie &#8211; Il Traditore
BEGIN:VEVENT
DTSTART:20191123T173000
DTEND:20191123T203000
SUMMARY:Storia e Storie &#8211; Il Traditore
DESCRIPTION:Storia e Storie

Il Traditore
LOCATION:Rende, Museo del Presente
END:VEVENT
END:VCALENDAR
