BEGIN:VCALENDAR
VERSION:2.0
PRODID:-//Istituto Studi Storici
CALSCALE:GREGORIAN
METHOD:PUBLISH
X-WR-CALNAME:Istituto Studi Storici
X-ORIGINAL-URL:http://istitutostudistorici.it/eventi/istituzione-del-parco-naturale-regionale-di-monte-cocuzzo-e-della-catena-costiera
X-WR-CALDESC:Istituzione del Parco Naturale Regionale di Monte Cocuzzo e della Catena costiera
BEGIN:VEVENT
DTSTART:20191115T193000
DTEND:20191115T233000
SUMMARY:Istituzione del Parco Naturale Regionale di Monte Cocuzzo e della Catena costiera
DESCRIPTION:Istituzione del Parco Naturale Regionale di Monte Cocuzzo e della Catena costiera
LOCATION:Mendicino, Villa Pergamena
END:VEVENT
END:VCALENDAR
