BEGIN:VCALENDAR
VERSION:2.0
PRODID:-//Istituto Studi Storici
CALSCALE:GREGORIAN
METHOD:PUBLISH
X-WR-CALNAME:Istituto Studi Storici
X-ORIGINAL-URL:http://istitutostudistorici.it/eventi/light-and-matter-one-shot-exhibition
X-WR-CALDESC:Light And Matter One Shot Exhibition
BEGIN:VEVENT
DTSTART:20180628T190000
DTEND:20180628T230000
SUMMARY:Light And Matter One Shot Exhibition
DESCRIPTION:Light And Matter One Shot Exhibition
LOCATION:Castrolibero, Via Pio IX, 21 (Centro Commerciale)
END:VEVENT
END:VCALENDAR
